BEGIN:VCALENDAR
VERSION:2.0
PRODID:http://trauerseelsorge-elisabeth-mg.de
BEGIN:VEVENT
UID:463b051e-3c96-11f1-b997-0242ac11002b-1777726800000-de
DTSTAMP:20260420T085234Z
DTSTART:20260502T130000Z
DTEND:20260502T143000Z
SUMMARY;LANGUAGE=de:Elisabeth Café – ein Angebot für Menschen, die jemand verloren haben
DESCRIPTION;LANGUAGE=de:Leitung: Beatrix Neuser-Pommernell\nTermine: 1. Samstag im Monat (Ausnahme August 2026) 15:00 Uhr bis 16:30 Uhr\nOrt: Trauerzentrum St. Elisabeth\, Bökelstraße 178\, 41063 Mönchengladbach\nKosten: kostenlos\nAnmeldung: Nicht erforderlich\nKontakt: Beatrix Hillermann 0 21 61 - 24 89 212 oder beatrix.hillermann @ pfarre-sankt-vitus.de
LOCATION;LANGUAGE=de:Trauerzentrum St. Elisabeth\, Bökelstraße 178\, 41063 Mönchengladbach
END:VEVENT
END:VCALENDAR
